BEGIN:VCALENDAR
VERSION:2.0
PRODID:-//Squarespace Inc/Squarespace 6//v6//EN
BEGIN:VEVENT
UID:5c4968f8aa4a992e800ecd84@squarespace.com
DTSTAMP:20190124T074253Z
DTSTART:20190905T100000Z
DTEND:20190905T110000Z
SUMMARY:Exhibition Entry Deadline - Last chance to enter the Exhibition
GEO:-34.810765;138.617304
LOCATION:Room MC1.05 Mawson Centre\, 2-8 Main Street\, Mawson Lakes\, SA\, 
 5095\, Australia
END:VEVENT
END:VCALENDAR
