BEGIN:VCALENDAR
VERSION:2.0
PRODID:-//Squarespace Inc/Squarespace 6//v6//EN
BEGIN:VEVENT
UID:5c7251859140b72b900ea41d@squarespace.com
DTSTAMP:20190224T081214Z
DTSTART:20191031T090000Z
DTEND:20191031T103000Z
SUMMARY:Social Night - Dinner @ Mawson Lakes Pub
GEO:-34.810765;138.617304
LOCATION:Room MC1.05 Mawson Centre\, 2-8 Main Street\, Mawson Lakes\, SA\, 
 5095\, Australia
END:VEVENT
END:VCALENDAR
