BEGIN:VCALENDAR
VERSION:2.0
PRODID:-//Squarespace Inc/Squarespace 6//v6//EN
BEGIN:VEVENT
UID:5c496c8488251b738e06ed56@squarespace.com
DTSTAMP:20190124T074318Z
DTSTART:20190925T093000Z
DTEND:20190925T103000Z
SUMMARY:Committee Meeting - Exhibition Judging
GEO:-34.810765;138.617304
LOCATION:Room MC1.05 Mawson Centre\, 2-8 Main Street\, Mawson Lakes\, SA\, 
 5095\, Australia
END:VEVENT
END:VCALENDAR
