BEGIN:VCALENDAR
VERSION:2.0
PRODID:-//Squarespace Inc/Squarespace 6//v6//EN
BEGIN:VEVENT
UID:5c49667370a6ad721e5a73a2@squarespace.com
DTSTAMP:20190124T071734Z
DTSTART:20190213T083000Z
DTEND:20190213T093000Z
SUMMARY:Committee Meeting
GEO:-34.810765;138.617304
LOCATION:Room MC1.05 Mawson Centre\, 2-8 Main Street\, Mawson Lakes\, SA\, 
 5095\, Australia
END:VEVENT
END:VCALENDAR
