BEGIN:VCALENDAR
VERSION:2.0
PRODID:-//Squarespace Inc/Squarespace 6//v6//EN
BEGIN:VEVENT
UID:5c35740f4ae237db71fb4a69@squarespace.com
DTSTAMP:20190109T041110Z
DTSTART:20190123T083000Z
DTEND:20190123T093000Z
SUMMARY:Committee Meeting
GEO:-34.810765;138.617304
LOCATION:Room MC1.05 Mawson Centre\, 2-8 Main Street\, Mawson Lakes\, SA\, 
 5095\, Australia
END:VEVENT
END:VCALENDAR
