BEGIN:VCALENDAR
VERSION:2.0
PRODID:-//Squarespace Inc/Squarespace 6//v6//EN
BEGIN:VEVENT
UID:5a28a2cc085229b3c96971bb@squarespace.com
DTSTAMP:20180407T113027Z
DTSTART:20180419T100000Z
DTEND:20180419T120000Z
SUMMARY:Light Painting Practical - Largs Bay
GEO:-34.824901;138.485395
LOCATION:Largs Bay\, 1 Esplanade\, Largs Bay\, SA\, 5016\, Australia
END:VEVENT
END:VCALENDAR
