BEGIN:VCALENDAR
VERSION:2.0
PRODID:-//Squarespace Inc/Squarespace 6//v6//EN
BEGIN:VEVENT
UID:5a28a28d9140b775cdd5a871@squarespace.com
DTSTAMP:20180320T092727Z
DTSTART:20180405T100000Z
DTEND:20180405T120000Z
SUMMARY:Creative Night - Light Painting Tutorial
GEO:-34.810765;138.617304
LOCATION:Room MC1.05 Mawson Centre\, 2-8 Main Street\, Mawson Lakes\, SA\, 
 5095\, Australia
END:VEVENT
END:VCALENDAR
