BEGIN:VCALENDAR
VERSION:2.0
PRODID:-//Squarespace Inc/Squarespace 6//v6//EN
BEGIN:VEVENT
UID:5a28a3a4e2c483218c7458b1@squarespace.com
DTSTAMP:20171214T223501Z
DTSTART:20180517T100000Z
DTEND:20180517T120000Z
SUMMARY:Information/Presentation Night - Easy Way Photography
GEO:-34.810765;138.617304
LOCATION:Room MC1.05 Mawson Centre\, 2-8 Main Street\, Mawson Lakes\, SA\, 
 5095\, Australia
END:VEVENT
END:VCALENDAR
