BEGIN:VCALENDAR
VERSION:2.0
PRODID:-//Squarespace Inc/Squarespace 6//v6//EN
BEGIN:VEVENT
UID:5a3305cd24a6949ae38f8a80@squarespace.com
DTSTAMP:20180624T031613Z
DTSTART:20180719T100000Z
DTEND:20180719T120000Z
SUMMARY:Competition  Night - Creative and Open
GEO:-34.811152;138.616347
LOCATION:Room MC1.05 Mawson Centre\, 2-8 Mawson Lakes Boulevard\, Mawson La
 kes\, SA\, 5095\, Australia
END:VEVENT
END:VCALENDAR
