BEGIN:VCALENDAR
VERSION:2.0
PRODID:-//Squarespace Inc/Squarespace 6//v6//EN
BEGIN:VEVENT
UID:5a28a317e4966ba536668716@squarespace.com
DTSTAMP:20180414T135212Z
DTSTART:20180503T100000Z
DTEND:20180503T120000Z
SUMMARY:Competition  Night - Season of Autumn and Open
GEO:-34.811152;138.616347
LOCATION:Room MC1.05 Mawson Centre\, 2-8 Mawson Lakes Boulevard\, Mawson La
 kes\, SA\, 5095\, Australia
END:VEVENT
END:VCALENDAR
