BEGIN:VCALENDAR
VERSION:2.0
PRODID:-//Squarespace Inc/Squarespace 6//v6//EN
BEGIN:VEVENT
UID:5a32fc1e53450ad5e6c712ef@squarespace.com
DTSTAMP:20171219T012108Z
DTSTART:20180509T093000Z
DTEND:20180509T103000Z
SUMMARY:Committee Meeting
GEO:-34.811152;138.616347
LOCATION:Room MC1.05 Mawson Centre\, 2-8 Mawson Lakes Boulevard\, Mawson La
 kes\, SA\, 5095\, Australia
END:VEVENT
END:VCALENDAR
