BEGIN:VCALENDAR
VERSION:2.0
PRODID:-//Squarespace Inc/Squarespace 6//v6//EN
BEGIN:VEVENT
UID:5a28a464e4966ba53666c26c@squarespace.com
DTSTAMP:20171214T231051Z
DTSTART:20180621T100000Z
DTEND:20180621T120000Z
SUMMARY:Landscape Photography
GEO:-34.810765;138.617304
LOCATION:Room MC1.05 Mawson Centre\, 2-8 Main Street\, Mawson Lakes\, SA\, 
 5095\, Australia
END:VEVENT
END:VCALENDAR
