BEGIN:VCALENDAR
VERSION:2.0
PRODID:-//Squarespace Inc/Squarespace 6//v6//EN
BEGIN:VEVENT
UID:5a330508e2c483629641a634@squarespace.com
DTSTAMP:20180617T082305Z
DTSTART:20180705T100000Z
DTEND:20180705T110000Z
SUMMARY:AGM and Social Night
GEO:-34.810765;138.617304
LOCATION:Room MC1.05 Mawson Centre\, 2-8 Main Street\, Mawson Lakes\, SA\, 
 5095\, Australia
END:VEVENT
END:VCALENDAR
