BEGIN:VCALENDAR
VERSION:2.0
PRODID:-//Squarespace Inc/Squarespace 6//v6//EN
BEGIN:VEVENT
UID:5a3307d29140b764378a69b1@squarespace.com
DTSTAMP:20171214T232549Z
DTSTART:20180926T100000Z
DTEND:20180926T110000Z
SUMMARY:2018 Exhibition Judging Evening
END:VEVENT
END:VCALENDAR
