BEGIN:VCALENDAR
VERSION:2.0
PRODID:-//Squarespace Inc/Squarespace 6//v6//EN
BEGIN:VEVENT
UID:5a33070c0d92972a19255585@squarespace.com
DTSTAMP:20171214T232018Z
DTSTART:20180906T100000Z
DTEND:20180906T110000Z
SUMMARY:DEADLINE FOR EXHIBITION ENTRIES
GEO:-34.810765;138.617304
LOCATION:Room MC1.05 Mawson Centre\, 2-8 Main Street\, Mawson Lakes\, SA\, 
 5095\, Australia
END:VEVENT
END:VCALENDAR
