BEGIN:VCALENDAR
VERSION:2.0
PRODID:-//Squarespace Inc/Squarespace 6//v6//EN
BEGIN:VEVENT
UID:5c56271a652dead3277d0492@squarespace.com
DTSTAMP:20190202T232711Z
DTSTART:20191108T223000Z
DTEND:20191109T003000Z
SUMMARY:Exhibition Pack Up
END:VEVENT
END:VCALENDAR
