BEGIN:VCALENDAR
VERSION:2.0
PRODID:-//Squarespace Inc/Squarespace 6//v6//EN
BEGIN:VEVENT
UID:5c4969a603ce64a98709c2f3@squarespace.com
DTSTAMP:20190124T073121Z
DTSTART:20191205T083000Z
DTEND:20191205T103000Z
SUMMARY:MLPC Christmas Dinner
END:VEVENT
END:VCALENDAR
