BEGIN:VCALENDAR
VERSION:2.0
PRODID:-//Squarespace Inc/Squarespace 6//v6//EN
BEGIN:VEVENT
UID:5c4e484cf950b77130ddf53a@squarespace.com
DTSTAMP:20190225T063537Z
DTSTART:20190302T093000Z
DTEND:20190303T113000Z
SUMMARY:Photo Walk -  North Terrace
GEO:-34.917966;138.598396
LOCATION:Rotunda\, King William Rd\, Adelaide\, SA\, 5000\, Australia
END:VEVENT
END:VCALENDAR
