BEGIN:VCALENDAR
VERSION:2.0
PRODID:-//Squarespace Inc/Squarespace 6//v6//EN
BEGIN:VEVENT
UID:5c496be20ebbe8f531dbffde@squarespace.com
DTSTAMP:20190124T074050Z
DTSTART:20190418T100000Z
DTEND:20190418T110000Z
SUMMARY:NOTE: No Meeting Tonight
END:VEVENT
END:VCALENDAR
