BEGIN:VCALENDAR
VERSION:2.0
PRODID:-//Squarespace Inc/Squarespace 6//v6//EN
BEGIN:VEVENT
UID:5c5623809b747a21bae5ba0a@squarespace.com
DTSTAMP:20190224T075502Z
DTSTART:20190428T003000Z
DTEND:20190428T073000Z
SUMMARY:Club Outing - Goolwa Wooden Boat Festival
GEO:-35.50377;138.786319
LOCATION:Hectors\, 1 Cutting Rd\, Goolwa\, SA\, 5214\, Australia
END:VEVENT
END:VCALENDAR
