BEGIN:VCALENDAR
VERSION:2.0
PRODID:-//Squarespace Inc/Squarespace 6//v6//EN
BEGIN:VEVENT
UID:5d2a4894d701760001b1cb57@squarespace.com
DTSTAMP:20190713T211128Z
DTSTART:20190801T100000Z
DTEND:20190801T120000Z
SUMMARY:Club Meeting - Talk by Keith Seidel on Exhibition Preparation
GEO:-34.810765;138.617304
LOCATION:Room MC1.05 Mawson Centre\, 2-8 Main Street\, Mawson Lakes\, SA\, 
 5095\, Australia
END:VEVENT
END:VCALENDAR
