BEGIN:VCALENDAR
VERSION:2.0
PRODID:-//Squarespace Inc/Squarespace 6//v6//EN
BEGIN:VEVENT
UID:5dd686874cd1290486328813@squarespace.com
DTSTAMP:20191121T124720Z
DTSTART:20200319T090000Z
DTEND:20200319T110000Z
SUMMARY:Club Meeting - Light Painting Info Night (in preparation for club o
 uting on 28 March)
GEO:-34.810765;138.617304
LOCATION:MC1.05 Mawson Centre\, 2 Main St\, Mawson Lakes\, SA\, 5095\, Aust
 ralia
END:VEVENT
END:VCALENDAR
