BEGIN:VCALENDAR
VERSION:2.0
PRODID:-//Squarespace Inc/Squarespace 6//v6//EN
BEGIN:VEVENT
UID:5dd681fe47de3255302c1ce8@squarespace.com
DTSTAMP:20191121T122810Z
DTSTART:20200123T090000Z
DTEND:20200123T110000Z
SUMMARY:Club Meeting - Festive Season Image Critique Night
GEO:-34.810765;138.617304
LOCATION:MC1.05 Mawson Centre\, 2 Main St\, Mawson Lakes\, SA\, 5095\, Aust
 ralia
END:VEVENT
END:VCALENDAR
