BEGIN:VCALENDAR
VERSION:2.0
PRODID:-//Squarespace Inc/Squarespace 6//v6//EN
BEGIN:VEVENT
UID:5dd6876ca8c5393bf2a93b8b@squarespace.com
DTSTAMP:20200223T010335Z
DTSTART:20200328T083000Z
DTEND:20200328T113000Z
SUMMARY:Club Outing - Light Painting and Astro Photography at St Kilda
GEO:-34.743492;138.533567
LOCATION:470 St Kilda Rd\, St Kilda\, SA\, 5110\, Australia
END:VEVENT
END:VCALENDAR
